BEGIN:VCALENDAR
VERSION:2.0
PRODID:-//RC Weslowski - ECPv4.7.3//NONSGML v1.0//EN
CALSCALE:GREGORIAN
METHOD:PUBLISH
X-WR-CALNAME:RC Weslowski
X-ORIGINAL-URL:https://rcweslowski.com
X-WR-CALDESC:Events for RC Weslowski
BEGIN:VEVENT
DTSTART;TZID=America/Vancouver:20240118T190000
DTEND;TZID=America/Vancouver:20240118T210000
DTSTAMP:20260422T140852
CREATED:20240104T191500Z
LAST-MODIFIED:20240104T191530Z
UID:1077-1705604400-1705611600@rcweslowski.com
SUMMARY:Slamlandia Poetry Feature
DESCRIPTION:I’m featuring at the Slamlandia Poetry Slam\, in Portland\, Oregon on Thursday Jan 18th.  It’s probably been 6 six years since I’ve been in Portland.  It’ll be fun to see some familiars FACES and hopefully make some new Friends \nhttps://www.facebook.com/slamlandia \nhttps://www.facebook.com/LiteraryArts \n
URL:https://rcweslowski.com/event/slamlandia-poetry-feature/
LOCATION:Literary Arts\, 925 SW Washington\, Street\, Portland\, OR\, United States
END:VEVENT
END:VCALENDAR