BEGIN:VCALENDAR
VERSION:2.0
PRODID:-//RC Weslowski - ECPv4.7.3//NONSGML v1.0//EN
CALSCALE:GREGORIAN
METHOD:PUBLISH
X-WR-CALNAME:RC Weslowski
X-ORIGINAL-URL:https://rcweslowski.com
X-WR-CALDESC:Events for RC Weslowski
BEGIN:VEVENT
DTSTART;TZID=America/Vancouver:20230909T190000
DTEND;TZID=America/Vancouver:20230909T220000
DTSTAMP:20260422T105612
CREATED:20230508T182042Z
LAST-MODIFIED:20230508T182042Z
UID:1067-1694286000-1694296800@rcweslowski.com
SUMMARY:San Jose Poetry Festival
DESCRIPTION:More details to follow but I am happy to announce I’ll be part of the San Jose Poetry Festival this September. \n
URL:https://rcweslowski.com/event/san-jose-poetry-festival/
END:VEVENT
END:VCALENDAR