BEGIN:VCALENDAR
VERSION:2.0
PRODID:-//RC Weslowski - ECPv4.7.3//NONSGML v1.0//EN
CALSCALE:GREGORIAN
METHOD:PUBLISH
X-WR-CALNAME:RC Weslowski
X-ORIGINAL-URL:https://rcweslowski.com
X-WR-CALDESC:Events for RC Weslowski
BEGIN:VEVENT
DTSTART;TZID=America/Vancouver:20240324T153000
DTEND;TZID=America/Vancouver:20240324T180000
DTSTAMP:20260422T111550
CREATED:20240227T035420Z
LAST-MODIFIED:20240227T035420Z
UID:1095-1711294200-1711303200@rcweslowski.com
SUMMARY:P.W Bridgman: An Afternoon of Readings
DESCRIPTION:A very distinguished and talented lineup of poets\, prose writers and artists will gather on the day of the event\, each of whom will read a five-minute (or shorter) excerpt from my poetry and fiction.  They are: \nDana Cromie\nMarc Lindy\nGeorge McWhirter\nDonal O’Hanlon (appearing by video from Newry\, Co Armagh\, Northern Ireland)\nShauna Paull\nLouise Schwarz\nKevin Spenst\nJohn Swanson\nRC Weslowski\nSangeeta Wylie \nEmcee for the event will be Marc Lindy—musician\, radio show host and general bon vivant. Light refreshments will be served at a reception following the readings. \nNotional Space hosts musical\, literary and other public events on a pay-what-you-choose basis.  You can read about the gift-economy ethos that animates Notional Space here. \n For a short outline of how this particular readings event was conceived\, have a look at this short description on my website.\nI truly hope you will be able to join us on March 24th.  It would be wonderful to see you.   \nIf you are planning to attend\, would you kindly RSVP to me at info@pwbridgman.ca.  That will help us in planning for refreshments needs and so forth. \n
URL:https://rcweslowski.com/event/p-w-bridgman-an-afternoon-of-readings/
LOCATION:Notional Space\, 1523 East Pender\, Vancouver
ATTACH;FMTTYPE=image/jpeg:https://rcweslowski.com/blog/wp-content/uploads/2014/08/macaca-back-cover.jpg
END:VEVENT
END:VCALENDAR