BEGIN:VCALENDAR
VERSION:2.0
PRODID:-//RC Weslowski - ECPv4.7.3//NONSGML v1.0//EN
CALSCALE:GREGORIAN
METHOD:PUBLISH
X-WR-CALNAME:RC Weslowski
X-ORIGINAL-URL:https://rcweslowski.com
X-WR-CALDESC:Events for RC Weslowski
BEGIN:VEVENT
DTSTART;TZID=America/Vancouver:20240423T210000
DTEND;TZID=America/Vancouver:20240423T233000
DTSTAMP:20260420T115914
CREATED:20240229T040256Z
LAST-MODIFIED:20240229T041044Z
UID:1110-1713906000-1713915000@rcweslowski.com
SUMMARY:Mashed Poetics/Verses Festival--Sinead O'Connor
DESCRIPTION:Thanks to the Canada Council\, The BC Arts Council\, The City of Vancouver and other donors/sponsors\, Mashed Poetics will once again be part of the Verses Festival of Words.  We’ll be featuring Sinead O’Connor’s “I DO NOT WANT WHAT I HAVEN’T GOT” at the Vancouver Film School’s performance space at 198 WEST Hastings Street across the street from Dressew. \nJillian Christmas\nLaurie Bricker\nShauna Paull\nMary Duffy\nTimothy Shay\nRoger Blenman\nMariah Dear\nKP Dennis aka Adonis King\nSteffi Tad-Y \nwill all be performing along with Sinead cover band Tosh and the Bad Comparisons \n
URL:https://rcweslowski.com/event/mashed-poetics-verses-festival-sinead-oconnor/
LOCATION:Vancouver Film School\, 198 West Hastings Street\, Vancouver
CATEGORIES:Mashed Poetics
ATTACH;FMTTYPE=image/jpeg:https://rcweslowski.com/blog/wp-content/uploads/2014/08/heart-opengraph.jpg
END:VEVENT
END:VCALENDAR