BEGIN:VCALENDAR
VERSION:2.0
PRODID:-//RC Weslowski - ECPv4.7.3//NONSGML v1.0//EN
CALSCALE:GREGORIAN
METHOD:PUBLISH
X-WR-CALNAME:RC Weslowski
X-ORIGINAL-URL:https://rcweslowski.com
X-WR-CALDESC:Events for RC Weslowski
BEGIN:VEVENT
DTSTART;TZID=America/Vancouver:20230429T193000
DTEND;TZID=America/Vancouver:20230429T220000
DTSTAMP:20260422T125249
CREATED:20230423T195312Z
LAST-MODIFIED:20230423T195312Z
UID:1058-1682796600-1682805600@rcweslowski.com
SUMMARY:Ignite Unite Poetry Party/Edmonton Poetry Festival
DESCRIPTION:Join us for another fabulous Poetry Party! We will hear from four poets who graced our stages throughout the festival this year. Expect big energy\, big feelings\, and big fun! \nReadings from Meghan Eaker\, Bänoo Zan\, RC Weslowski\, and Charlee Queen XO. \n
URL:https://rcweslowski.com/event/ignite-unite-poetry-party-edmonton-poetry-festival/
LOCATION:Co*Lab\, 9641 102A Ave NW\, Edmonton\, Alberta
END:VEVENT
END:VCALENDAR