BEGIN:VCALENDAR
VERSION:2.0
PRODID:-//RC Weslowski - ECPv4.7.3//NONSGML v1.0//EN
CALSCALE:GREGORIAN
METHOD:PUBLISH
X-WR-CALNAME:RC Weslowski
X-ORIGINAL-URL:https://rcweslowski.com
X-WR-CALDESC:Events for RC Weslowski
BEGIN:VEVENT
DTSTART;TZID=America/Vancouver:20240326T180000
DTEND;TZID=America/Vancouver:20240326T203000
DTSTAMP:20260422T123023
CREATED:20240227T041419Z
LAST-MODIFIED:20240227T041422Z
UID:1101-1711476000-1711485000@rcweslowski.com
SUMMARY:Haus of Owl Online Writing Workshop: Writing sideways
DESCRIPTION:I’ll be hosting an online writing workshop focusing on comedic writing in spoken word.  We’ll look at some examples of funny poems and examine the tools used in writing funny poems\, stories and more.  I hope you can join us. \n
URL:https://rcweslowski.com/event/haus-of-owl-online-writing-workshop-writing-sideways/
LOCATION:Haus of Owl\, Victoria\, British Columbia
ATTACH;FMTTYPE=image/jpeg:https://rcweslowski.com/blog/wp-content/uploads/2017/08/discohead.jpg
END:VEVENT
END:VCALENDAR