BEGIN:VCALENDAR
VERSION:2.0
PRODID:-//RC Weslowski - ECPv4.7.3//NONSGML v1.0//EN
CALSCALE:GREGORIAN
METHOD:PUBLISH
X-WR-CALNAME:RC Weslowski
X-ORIGINAL-URL:http://rcweslowski.com
X-WR-CALDESC:Events for RC Weslowski
BEGIN:VEVENT
DTSTART;TZID=America/Vancouver:20140825T080000
DTEND;TZID=America/Vancouver:20140825T221500
DTSTAMP:20260420T201606
CREATED:20140820T234821Z
LAST-MODIFIED:20140820T234821Z
UID:256-1408953600-1409004900@rcweslowski.com
SUMMARY:Vancouver Youth Poetry Slam
DESCRIPTION:I will be hosting the Vancouver Youth Poetry Slam on Monday Oct 25th.  It’s an event open to poets between the ages of 13-20 and it takes place at Cafe Deux Soleils on Commercial Drive.  Besides the competition we will have a feature performance from Seattle’s Ela Barton.  Sign up at 7pm.  Show at 8 o’clock. \n
URL:http://rcweslowski.com/event/vancouver-youth-poetry-slam/
LOCATION:Cafe Deux Soleils\, 2096 Commercial Drive\, Vancouver\, British Columbia\, Canada
END:VEVENT
END:VCALENDAR