BEGIN:VCALENDAR
VERSION:2.0
PRODID:-//RC Weslowski - ECPv4.7.3//NONSGML v1.0//EN
CALSCALE:GREGORIAN
METHOD:PUBLISH
X-WR-CALNAME:RC Weslowski
X-ORIGINAL-URL:http://rcweslowski.com
X-WR-CALDESC:Events for RC Weslowski
BEGIN:VEVENT
DTSTART;TZID=America/Vancouver:20160527T193000
DTEND;TZID=America/Vancouver:20160527T213000
DTSTAMP:20260423T002313
CREATED:20160219T212653Z
LAST-MODIFIED:20160219T212653Z
UID:573-1464377400-1464384600@rcweslowski.com
SUMMARY:Twisted Poets
DESCRIPTION:I will be co headlining at Twisted Poets with Jillian Christmas. We might even squeeze in some youth poets into our set. Should be fun.  Thanks to Bonnie Nish for asking. \nR \n
URL:http://rcweslowski.com/event/twisted-poets/
LOCATION:Cottage Bistro\, 4468 Main Street\, Vancouver \, British Columbia \, Canada
END:VEVENT
END:VCALENDAR