BEGIN:VCALENDAR
VERSION:2.0
PRODID:-//RC Weslowski - ECPv4.7.3//NONSGML v1.0//EN
CALSCALE:GREGORIAN
METHOD:PUBLISH
X-WR-CALNAME:RC Weslowski
X-ORIGINAL-URL:http://rcweslowski.com
X-WR-CALDESC:Events for RC Weslowski
BEGIN:VEVENT
DTSTART;TZID=America/Vancouver:20150627T200000
DTEND;TZID=America/Vancouver:20150627T220000
DTSTAMP:20260421T104626
CREATED:20150606T002724Z
LAST-MODIFIED:20150606T002724Z
UID:476-1435435200-1435442400@rcweslowski.com
SUMMARY:Toronto Poetry Slam
DESCRIPTION:I will be the featured poet at the June 27th Toronto Poetry Slam.  This will also be Cathy Petch’s birthday (party).  Come for the words and stay for the cake. \nI think it will just be a regular slam at the Drake Hotel.  1150 Queen Street. \n
URL:http://rcweslowski.com/event/toronto-poetry-slam/
LOCATION:Drake Hotel\, 1150 Queen Street\, Toronto
END:VEVENT
END:VCALENDAR