BEGIN:VCALENDAR
VERSION:2.0
PRODID:-//RC Weslowski - ECPv4.7.3//NONSGML v1.0//EN
CALSCALE:GREGORIAN
METHOD:PUBLISH
X-WR-CALNAME:RC Weslowski
X-ORIGINAL-URL:http://rcweslowski.com
X-WR-CALDESC:Events for RC Weslowski
BEGIN:VEVENT
DTSTART;TZID=America/Vancouver:20150929T193000
DTEND;TZID=America/Vancouver:20150929T223000
DTSTAMP:20260423T052845
CREATED:20150826T163320Z
LAST-MODIFIED:20150826T163525Z
UID:514-1443555000-1443565800@rcweslowski.com
SUMMARY:Tongues of Fire 10th Anniversary Show
DESCRIPTION:I get to share the stage with Sheri-D Wilson!  And help celebrate 10 years of TOF.  Should be fun. \nTongues of Fire\, 10th Anniversary Celebration – featuring Sheri-D Wilson & RC Weslowski\nTuesday September 29th 2015\n7:30 pm\nAmbrosia Centre\n638 Fisgard Street\nVictoria\, BC \n
URL:http://rcweslowski.com/event/tongues-of-fire-10th-anniversary-show/
LOCATION:Ambrosia Centre\, 638 Fisgard Street\, Victoria\, British Columbia\, Canada
END:VEVENT
END:VCALENDAR