BEGIN:VCALENDAR
VERSION:2.0
PRODID:-//RC Weslowski - ECPv4.7.3//NONSGML v1.0//EN
CALSCALE:GREGORIAN
METHOD:PUBLISH
X-WR-CALNAME:RC Weslowski
X-ORIGINAL-URL:http://rcweslowski.com
X-WR-CALDESC:Events for RC Weslowski
BEGIN:VEVENT
DTSTART;TZID=America/Vancouver:20150925T173000
DTEND;TZID=America/Vancouver:20150925T190000
DTSTAMP:20260423T070731
CREATED:20150606T004036Z
LAST-MODIFIED:20150606T004036Z
UID:487-1443202200-1443207600@rcweslowski.com
SUMMARY:Surrey Muse
DESCRIPTION:It looks like I will be featuring at Surrey Muse in September at the Surrey Central Public Library.  There will be other readers plus an open mic.  It’s an early event. 5:30pm. \nSurrey Muse meets in Room 418 at the Central branch of Surrey Public Library from 5:30 – 8:30 PM every Fourth Friday of each month except December. The Library provides a Data Projector. Use of microphone is not allowed.\nHere’s more about the Gatherings:\nhttp://surreymuse.wordpress.com/meetings/\nPrevious Presenters:\nhttp://surreymuse.wordpress.com/people/\nEarlier Programs:\nhttp://surreymuse.wordpress.com/program/\nWe are an unfunded initiative\, and donot offer an honorarium at this time. We support and promote our presenters in our gatherings and through our Web Page\, Facebook and Twitter.\nLike our FB Page:\nfacebook.com/pages/Surrey-Muse/257728917595039\nFollow on Twitter:\n@SurreyMuse \n
URL:http://rcweslowski.com/event/surrey-muse/
LOCATION:Surrey Public Library\, Surrey
END:VEVENT
END:VCALENDAR