BEGIN:VCALENDAR
VERSION:2.0
PRODID:-//RC Weslowski - ECPv4.7.3//NONSGML v1.0//EN
CALSCALE:GREGORIAN
METHOD:PUBLISH
X-WR-CALNAME:RC Weslowski
X-ORIGINAL-URL:http://rcweslowski.com
X-WR-CALDESC:Events for RC Weslowski
BEGIN:VEVENT
DTSTART;TZID=America/Vancouver:20171201T120000
DTEND;TZID=America/Vancouver:20171201T153000
DTSTAMP:20260422T174110
CREATED:20171114T034811Z
LAST-MODIFIED:20171114T034811Z
UID:780-1512129600-1512142200@rcweslowski.com
SUMMARY:Riverside Secondary Poetry Slam
DESCRIPTION:I’ll be hosting two high school poetry slams at Riverside Secondary in Coquitlam. \n
URL:http://rcweslowski.com/event/riverside-secondary-poetry-slam/
LOCATION:Riverside Secondary Schoo\, 2215 Reeve Street\, Coquitlam\, British Columbia\, Canada
ATTACH;FMTTYPE=image/jpeg:http://rcweslowski.com/blog/wp-content/uploads/2016/09/Koala.jpg
END:VEVENT
END:VCALENDAR