BEGIN:VCALENDAR
VERSION:2.0
PRODID:-//RC Weslowski - ECPv4.7.3//NONSGML v1.0//EN
CALSCALE:GREGORIAN
METHOD:PUBLISH
X-WR-CALNAME:RC Weslowski
X-ORIGINAL-URL:http://rcweslowski.com
X-WR-CALDESC:Events for RC Weslowski
BEGIN:VEVENT
DTSTART;TZID=America/Vancouver:20171116T190000
DTEND;TZID=America/Vancouver:20171116T213000
DTSTAMP:20260422T192147
CREATED:20171114T034518Z
LAST-MODIFIED:20171114T034518Z
UID:777-1510858800-1510867800@rcweslowski.com
SUMMARY:Live Lit Writer's Open Mic
DESCRIPTION:This show is like the title suggest…an open mic night in San Jose California.  It starts at 7pm.  I’ll be the featured poet going on around 8:15 \n
URL:http://rcweslowski.com/event/live-lit-writers-open-mic/
LOCATION:Cafe Frascati\, 315 South First Street\, San Jose\, CA\, 95112\, United States
ATTACH;FMTTYPE=image/jpeg:http://rcweslowski.com/blog/wp-content/uploads/2017/11/rcvsfeature.jpg
END:VEVENT
END:VCALENDAR