BEGIN:VCALENDAR
VERSION:2.0
PRODID:-//RC Weslowski - ECPv4.7.3//NONSGML v1.0//EN
CALSCALE:GREGORIAN
METHOD:PUBLISH
X-WR-CALNAME:RC Weslowski
X-ORIGINAL-URL:http://rcweslowski.com
X-WR-CALDESC:Events for RC Weslowski
BEGIN:VEVENT
DTSTART;TZID=America/Vancouver:20171113T080000
DTEND;TZID=America/Vancouver:20171113T170000
DTSTAMP:20260422T224940
CREATED:20171114T040349Z
LAST-MODIFIED:20171114T040349Z
UID:790-1510560000-1510592400@rcweslowski.com
SUMMARY:Guelph Poetry Slam--Laugh It Off Edition
DESCRIPTION:Somebody thinks I’m funny.  So\, I’ve been asked to feature at the annual Laugh it Off poetry slam in Guelph.  I’ll also be doing a workshop on Sunday afternoon on how to learn to laugh at yourself. \n
URL:http://rcweslowski.com/event/guelph-poetry-slam-laugh-it-off-edition/
LOCATION:The E Bar\, 41 Quebec Street\, Guelph\, Ontario\, N1H 2T1\, Canada
ATTACH;FMTTYPE=image/jpeg:http://rcweslowski.com/blog/wp-content/uploads/2017/11/rcvsfeature.jpg
END:VEVENT
END:VCALENDAR