BEGIN:VCALENDAR
VERSION:2.0
PRODID:-//RC Weslowski - ECPv4.7.3//NONSGML v1.0//EN
CALSCALE:GREGORIAN
METHOD:PUBLISH
X-WR-CALNAME:RC Weslowski
X-ORIGINAL-URL:http://rcweslowski.com
X-WR-CALDESC:Events for RC Weslowski
BEGIN:VEVENT
DTSTART;TZID=America/Vancouver:20171115T210000
DTEND;TZID=America/Vancouver:20171115T230000
DTSTAMP:20260422T210704
CREATED:20171114T034113Z
LAST-MODIFIED:20171114T034113Z
UID:772-1510779600-1510786800@rcweslowski.com
SUMMARY:Go Go Gone Show
DESCRIPTION:I will be featuring at Mike McGee’s Go Go Gone Show\, a variety/talent night at Café Stitch in San Jose\, California.  Show starts at 9pm. \n
URL:http://rcweslowski.com/event/go-go-gone-show/
LOCATION:Cafe Stitch\, 374 South First Street\, San Jose\, CA\, 95112\, United States
ATTACH;FMTTYPE=image/jpeg:http://rcweslowski.com/blog/wp-content/uploads/2017/11/rcvsfeature.jpg
END:VEVENT
END:VCALENDAR