BEGIN:VCALENDAR
VERSION:2.0
PRODID:-//RC Weslowski - ECPv4.7.3//NONSGML v1.0//EN
CALSCALE:GREGORIAN
METHOD:PUBLISH
X-WR-CALNAME:RC Weslowski
X-ORIGINAL-URL:http://rcweslowski.com
X-WR-CALDESC:Events for RC Weslowski
BEGIN:VEVENT
DTSTART;TZID=America/Vancouver:20160401T200000
DTEND;TZID=America/Vancouver:20160602T230000
DTSTAMP:20260423T020736
CREATED:20160219T213051Z
LAST-MODIFIED:20160219T213051Z
UID:576-1459540800-1464908400@rcweslowski.com
SUMMARY:Game of Thrones 2016 @ The RIO Theatre
DESCRIPTION:It’s a chaotic\, bedazzling\, beautiful mess of bodies and blood and in the middle of it is a dirty haiku battle that I will be a part of.  It’s Game of Thrones 2016. \n
URL:http://rcweslowski.com/event/game-of-thrones-2016-the-rio-theatre/
LOCATION:Rio Theatre\, Vancouver 
END:VEVENT
END:VCALENDAR