BEGIN:VCALENDAR
VERSION:2.0
PRODID:-//RC Weslowski - ECPv4.7.3//NONSGML v1.0//EN
CALSCALE:GREGORIAN
METHOD:PUBLISH
X-WR-CALNAME:RC Weslowski
X-ORIGINAL-URL:http://rcweslowski.com
X-WR-CALDESC:Events for RC Weslowski
BEGIN:VEVENT
DTSTART;TZID=America/Vancouver:20150919T200000
DTEND;TZID=America/Vancouver:20150919T230000
DTSTAMP:20260423T084030
CREATED:20150606T003754Z
LAST-MODIFIED:20150723T185935Z
UID:484-1442692800-1442703600@rcweslowski.com
SUMMARY:Chicken Sessions
DESCRIPTION:I will be featuring at the venerable Chicken Sessions the first Saturday in September.  There will be an extensive open mic\, a pot luck and a music guest to be determined later. \n
URL:http://rcweslowski.com/event/chicken-sessions/
LOCATION:Chicken House\, 2048 Pandora\, Vancouver 
END:VEVENT
END:VCALENDAR