BEGIN:VCALENDAR
VERSION:2.0
PRODID:-//RC Weslowski - ECPv4.7.3//NONSGML v1.0//EN
CALSCALE:GREGORIAN
METHOD:PUBLISH
X-WR-CALNAME:RC Weslowski
X-ORIGINAL-URL:http://rcweslowski.com
X-WR-CALDESC:Events for RC Weslowski
BEGIN:VEVENT
DTSTART;TZID=America/Vancouver:20150630T200000
DTEND;TZID=America/Vancouver:20150630T223000
DTSTAMP:20260421T123759
CREATED:20150606T002344Z
LAST-MODIFIED:20150606T002344Z
UID:473-1435694400-1435703400@rcweslowski.com
SUMMARY:Art Bar Reading Series
DESCRIPTION:I will be one of the feature performers at the Tuesday night Art Bar Poetry Reading Series on June 30th in Toronto.  It’s at the Black Swan Tavern at 154 Danforth in Toronto on the 2nd floor.  I think it was the same venue I was at in 2011.  It starts at 8pm and I think it’s by donation. \nThere website is http://www.artbar.org/ \nI will be reading with Klyde Brookx and Alexander Tkachuk \n
URL:http://rcweslowski.com/event/art-bar-reading-series/
LOCATION:Black Swan Tavern\, 154 Danforth\, Toronto
END:VEVENT
END:VCALENDAR